View In:
ArcGIS JavaScript
ArcGIS Online Map Viewer
ArcGIS Earth
ArcMap
View Footprint In:
ArcGIS Online Map Viewer
Service Description: Hosted/om202609081023444ortho
Name: Hosted/om202609081023444ortho
Description:
Single Fused Map Cache: true
Tile Info:
- Height: 256
- Width: 256
- DPI: 96
-
Levels of Detail: 8
-
Level ID: 0
[ Start Tile, End Tile ]
- Resolution: 2.449070035104455
- Scale: 9256.30917907799
-
Level ID: 1
[ Start Tile, End Tile ]
- Resolution: 1.2245350175522276
- Scale: 4628.154589538995
-
Level ID: 2
[ Start Tile, End Tile ]
- Resolution: 0.6122675087761138
- Scale: 2314.0772947694977
-
Level ID: 3
[ Start Tile, End Tile ]
- Resolution: 0.3061337543880569
- Scale: 1157.0386473847489
-
Level ID: 4
[ Start Tile, End Tile ]
- Resolution: 0.15306687719402845
- Scale: 578.5193236923744
-
Level ID: 5
[ Start Tile, End Tile ]
- Resolution: 0.07653343859701423
- Scale: 289.2596618461872
-
Level ID: 6
[ Start Tile, End Tile ]
- Resolution: 0.03826671929850711
- Scale: 144.6298309230936
-
Level ID: 7
[ Start Tile, End Tile ]
- Resolution: 0.019133359649253556
- Scale: 72.3149154615468
- Format: LERC2D
- Compression Quality: 100000.0
- LERC Error: 0.1
- Origin: X: 651200.3506825422
Y: 4775488.486799484
- Spatial Reference: 32617
(32617)
LatestVCSWkid(0)
Storage Info:
- Storage Format: esriMapCacheStorageModeCompactV2
- Packet Size: 16
Extent:
XMin: 651200.3506825422
YMin: 4775089.709317674
XMax: 651546.1478914832
YMax: 4775488.486799484
Spatial Reference: 32617
(32617)
LatestVCSWkid(0)
Initial Extent:
XMin: 651200.3506825422
YMin: 4775089.709317674
XMax: 651546.1478914832
YMax: 4775488.486799484
Spatial Reference: 32617
(32617)
LatestVCSWkid(0)
Full Extent:
XMin: 651200.3506825422
YMin: 4775089.709317674
XMax: 651546.1478914832
YMax: 4775488.486799484
Spatial Reference: 32617
(32617)
LatestVCSWkid(0)
Pixel Size X: 0.019133359649253556
Pixel Size Y: 0.01913335964927501
Band Count: 3
Pixel Type: U8
RasterFunction Infos: {"rasterFunctionInfos": [{
"name": "None",
"description": "Make a Raster or Raster Dataset into a Function Raster Dataset.",
"help": ""
}]}
Mensuration Capabilities: Basic
Has Histograms: true
Has Colormap: false
Has Multi Dimensions : false
Rendering Rule:
Min Scale: 0
Max Scale: 0
Copyright Text:
Service Data Type: esriImageServiceDataTypeRGB
Min Values: 0, 0, 0
Max Values: 255, 255, 255
Mean Values: 133.84045208218913, 141.8529618225782, 82.4825750233931
Standard Deviation Values: 63.02236423319591, 54.58107667066313, 61.65172245120979
Object ID Field:
Fields:
None
Default Mosaic Method: Center
Allowed Mosaic Methods:
SortField:
SortValue: null
Mosaic Operator: First
Default Compression Quality: 75
Default Resampling Method: Bilinear
Max Record Count: null
Max Image Height: 4100
Max Image Width: 15000
Max Download Image Count: null
Max Mosaic Image Count: null
Allow Raster Function: true
Allow Copy: true
Allow Analysis: true
Allow Compute TiePoints: false
Supports Statistics: false
Supports Advanced Queries: false
Use StandardizedQueries: true
Raster Type Infos:
Name: Raster Dataset
Description: Supports all ArcGIS Raster Datasets
Help:
Has Raster Attribute Table: false
Edit Fields Info: null
Ownership Based AccessControl For Rasters: null
Child Resources:
Info
Histograms
Statistics
Key Properties
Legend
Raster Function Infos
Supported Operations:
Export Image
Identify
Compute Histograms
Compute Statistics Histograms
Get Samples
Compute Class Statistics
Query Boundary
Compute Pixel Location
Compute Angles
Validate
Project