{
 "currentVersion": 10.91,
 "serviceDescription": "Hosted/om202609081023444ortho",
 "name": "Hosted/om202609081023444ortho",
 "description": "",
 "extent": {
  "xmin": 651200.3506825422,
  "ymin": 4775089.709317674,
  "xmax": 651546.1478914832,
  "ymax": 4775488.486799484,
  "spatialReference": {
   "wkid": 32617,
   "latestWkid": 32617
  }
 },
 "initialExtent": {
  "xmin": 651200.3506825422,
  "ymin": 4775089.709317674,
  "xmax": 651546.1478914832,
  "ymax": 4775488.486799484,
  "spatialReference": {
   "wkid": 32617,
   "latestWkid": 32617
  }
 },
 "fullExtent": {
  "xmin": 651200.3506825422,
  "ymin": 4775089.709317674,
  "xmax": 651546.1478914832,
  "ymax": 4775488.486799484,
  "spatialReference": {
   "wkid": 32617,
   "latestWkid": 32617
  }
 },
 "hasMultidimensions": false,
 "pixelSizeX": 0.019133359649253556,
 "pixelSizeY": 0.01913335964927501,
 "datasetFormat": "Cache/LERC2D",
 "uncompressedSize": 1130032398,
 "blockWidth": 256,
 "blockHeight": 256,
 "compressionType": "LERC2D",
 "bandNames": [
  "Band_1",
  "Band_2",
  "Band_3"
 ],
 "allowCopy": true,
 "allowAnalysis": true,
 "bandCount": 3,
 "noDataValue": 256,
 "noDataValues": [
  256,
  256,
  256
 ],
 "pixelType": "U8",
 "minPixelSize": 0,
 "maxPixelSize": 0,
 "copyrightText": "",
 "serviceDataType": "esriImageServiceDataTypeRGB",
 "serviceSourceType": "esriImageServiceSourceTypeDataset",
 "minValues": [
  0,
  0,
  0
 ],
 "maxValues": [
  255,
  255,
  255
 ],
 "meanValues": [
  133.84045208218913,
  141.8529618225782,
  82.4825750233931
 ],
 "stdvValues": [
  63.02236423319591,
  54.58107667066313,
  61.65172245120979
 ],
 "objectIdField": "",
 "fields": [],
 "capabilities": "Image, Metadata",
 "defaultMosaicMethod": "Center",
 "allowedMosaicMethods": "",
 "sortField": "",
 "sortValue": null,
 "sortAscending": true,
 "mosaicOperator": "First",
 "defaultCompressionQuality": 75,
 "defaultResamplingMethod": "Bilinear",
 "maxImageHeight": 4100,
 "maxImageWidth": 15000,
 "singleFusedMapCache": true,
 "tileInfo": {
  "rows": 256,
  "cols": 256,
  "dpi": 96,
  "format": "LERC2D",
  "compressionQuality": 100000,
  "lercError": 0.1,
  "origin": {
   "x": 651200.3506825422,
   "y": 4775488.486799484
  },
  "spatialReference": {
   "wkid": 32617,
   "latestWkid": 32617
  },
  "lods": [
   {
    "level": 0,
    "resolution": 2.449070035104455,
    "scale": 9256.30917907799
   },
   {
    "level": 1,
    "resolution": 1.2245350175522276,
    "scale": 4628.154589538995
   },
   {
    "level": 2,
    "resolution": 0.6122675087761138,
    "scale": 2314.0772947694977
   },
   {
    "level": 3,
    "resolution": 0.3061337543880569,
    "scale": 1157.0386473847489
   },
   {
    "level": 4,
    "resolution": 0.15306687719402845,
    "scale": 578.5193236923744
   },
   {
    "level": 5,
    "resolution": 0.07653343859701423,
    "scale": 289.2596618461872
   },
   {
    "level": 6,
    "resolution": 0.03826671929850711,
    "scale": 144.6298309230936
   },
   {
    "level": 7,
    "resolution": 0.019133359649253556,
    "scale": 72.3149154615468
   }
  ]
 },
 "storageInfo": {
  "storageFormat": "esriMapCacheStorageModeCompactV2",
  "packetSize": 16
 },
 "cacheType": "Raster",
 "allowRasterFunction": true,
 "rasterFunctionInfos": [
  {
   "name": "None",
   "description": "Make a Raster or Raster Dataset into a Function Raster Dataset.",
   "help": ""
  }
 ],
 "rasterTypeInfos": [
  {
   "name": "Raster Dataset",
   "description": "Supports all ArcGIS Raster Datasets",
   "help": ""
  }
 ],
 "mensurationCapabilities": "Basic",
 "hasHistograms": true,
 "hasColormap": false,
 "hasRasterAttributeTable": false,
 "minScale": 0,
 "maxScale": 0,
 "exportTilesAllowed": false,
 "supportsStatistics": false,
 "supportsAdvancedQueries": false,
 "editFieldsInfo": null,
 "ownershipBasedAccessControlForRasters": null,
 "allowComputeTiePoints": false,
 "useStandardizedQueries": true,
 "advancedQueryCapabilities": {
  "useStandardizedQueries": true,
  "supportsStatistics": false,
  "supportsOrderBy": false,
  "supportsDistinct": false,
  "supportsPagination": false
 },
 "spatialReference": {
  "wkid": 32617,
  "latestWkid": 32617
 }
}
