{
 "currentVersion": 10.91,
 "serviceDescription": "Imagery/DTM_2020_NPCA_Jurisdiction",
 "name": "Imagery/DTM_2020_NPCA_Jurisdiction",
 "description": "",
 "extent": {
  "xmin": 583970,
  "ymin": 4744245,
  "xmax": 670745,
  "ymax": 4791740,
  "spatialReference": {
   "wkt": "PROJCS[\"North_American_1983_CSRS_UTM_Zone_17N\",GEOGCS[\"GCS_North_American_1983_CSRS\",DATUM[\"D_North_American_1983_CSRS\",SPHEROID[\"GRS_1980\",6378137.0,298.257222101]],PRIMEM[\"Greenwich\",0.0],UNIT[\"Degree\",0.0174532925199433]],PROJECTION[\"Transverse_Mercator\"],PARAMETER[\"False_Easting\",500000.0],PARAMETER[\"False_Northing\",0.0],PARAMETER[\"Central_Meridian\",-81.0],PARAMETER[\"Scale_Factor\",0.9996],PARAMETER[\"Latitude_Of_Origin\",0.0],UNIT[\"Meter\",1.0]]"
  }
 },
 "initialExtent": {
  "xmin": 583970,
  "ymin": 4744245,
  "xmax": 670745,
  "ymax": 4791740,
  "spatialReference": {
   "wkt": "PROJCS[\"North_American_1983_CSRS_UTM_Zone_17N\",GEOGCS[\"GCS_North_American_1983_CSRS\",DATUM[\"D_North_American_1983_CSRS\",SPHEROID[\"GRS_1980\",6378137.0,298.257222101]],PRIMEM[\"Greenwich\",0.0],UNIT[\"Degree\",0.0174532925199433]],PROJECTION[\"Transverse_Mercator\"],PARAMETER[\"False_Easting\",500000.0],PARAMETER[\"False_Northing\",0.0],PARAMETER[\"Central_Meridian\",-81.0],PARAMETER[\"Scale_Factor\",0.9996],PARAMETER[\"Latitude_Of_Origin\",0.0],UNIT[\"Meter\",1.0]]"
  }
 },
 "fullExtent": {
  "xmin": 583970,
  "ymin": 4744245,
  "xmax": 670745,
  "ymax": 4791740,
  "spatialReference": {
   "wkt": "PROJCS[\"North_American_1983_CSRS_UTM_Zone_17N\",GEOGCS[\"GCS_North_American_1983_CSRS\",DATUM[\"D_North_American_1983_CSRS\",SPHEROID[\"GRS_1980\",6378137.0,298.257222101]],PRIMEM[\"Greenwich\",0.0],UNIT[\"Degree\",0.0174532925199433]],PROJECTION[\"Transverse_Mercator\"],PARAMETER[\"False_Easting\",500000.0],PARAMETER[\"False_Northing\",0.0],PARAMETER[\"Central_Meridian\",-81.0],PARAMETER[\"Scale_Factor\",0.9996],PARAMETER[\"Latitude_Of_Origin\",0.0],UNIT[\"Meter\",1.0]]"
  }
 },
 "hasMultidimensions": false,
 "pixelSizeX": 5,
 "pixelSizeY": 5,
 "datasetFormat": "GRID",
 "uncompressedSize": 659420580,
 "blockWidth": 256,
 "blockHeight": 16,
 "compressionType": "None",
 "bandNames": [
  "Band_1"
 ],
 "allowCopy": true,
 "allowAnalysis": true,
 "bandCount": 1,
 "noDataValue": 3.3999999521443642E38,
 "noDataValues": [
  3.3999999521443642E38
 ],
 "pixelType": "F32",
 "minPixelSize": 0,
 "maxPixelSize": 0,
 "copyrightText": "",
 "serviceDataType": "esriImageServiceDataTypeGeneric",
 "serviceSourceType": "esriImageServiceSourceTypeDataset",
 "minValues": [
  0
 ],
 "maxValues": [
  259.96087646484375
 ],
 "meanValues": [
  174.37010918997993
 ],
 "stdvValues": [
  32.77618201362209
 ],
 "objectIdField": "",
 "fields": [],
 "capabilities": "Image,Metadata,Mensuration",
 "defaultMosaicMethod": "Center",
 "allowedMosaicMethods": "",
 "sortField": "",
 "sortValue": null,
 "sortAscending": true,
 "mosaicOperator": "First",
 "defaultCompressionQuality": 75,
 "defaultResamplingMethod": "Bilinear",
 "maxImageHeight": 4100,
 "maxImageWidth": 15000,
 "allowRasterFunction": true,
 "rasterFunctionInfos": [
  {
   "name": "None",
   "description": "",
   "help": ""
  }
 ],
 "rasterTypeInfos": [
  {
   "name": "Raster Dataset",
   "description": "Supports all ArcGIS Raster Datasets",
   "help": ""
  }
 ],
 "mensurationCapabilities": "Basic",
 "hasHistograms": true,
 "hasColormap": false,
 "hasRasterAttributeTable": false,
 "minScale": 0,
 "maxScale": 0,
 "exportTilesAllowed": false,
 "supportsStatistics": false,
 "supportsAdvancedQueries": false,
 "editFieldsInfo": null,
 "ownershipBasedAccessControlForRasters": null,
 "allowComputeTiePoints": false,
 "useStandardizedQueries": true,
 "advancedQueryCapabilities": {
  "useStandardizedQueries": true,
  "supportsStatistics": false,
  "supportsOrderBy": false,
  "supportsDistinct": false,
  "supportsPagination": false
 },
 "spatialReference": {
  "wkt": "PROJCS[\"North_American_1983_CSRS_UTM_Zone_17N\",GEOGCS[\"GCS_North_American_1983_CSRS\",DATUM[\"D_North_American_1983_CSRS\",SPHEROID[\"GRS_1980\",6378137.0,298.257222101]],PRIMEM[\"Greenwich\",0.0],UNIT[\"Degree\",0.0174532925199433]],PROJECTION[\"Transverse_Mercator\"],PARAMETER[\"False_Easting\",500000.0],PARAMETER[\"False_Northing\",0.0],PARAMETER[\"Central_Meridian\",-81.0],PARAMETER[\"Scale_Factor\",0.9996],PARAMETER[\"Latitude_Of_Origin\",0.0],UNIT[\"Meter\",1.0]]"
 }
}
